BEGIN:VCALENDAR
VERSION:2.0
PRODID:-//FranklinCovey Honduras - ECPv6.15.20//NONSGML v1.0//EN
CALSCALE:GREGORIAN
METHOD:PUBLISH
X-ORIGINAL-URL:https://franklincovey.hn
X-WR-CALDESC:Eventos para FranklinCovey Honduras
REFRESH-INTERVAL;VALUE=DURATION:PT1H
X-Robots-Tag:noindex
X-PUBLISHED-TTL:PT1H
BEGIN:VTIMEZONE
TZID:America/Tegucigalpa
BEGIN:STANDARD
TZOFFSETFROM:-0600
TZOFFSETTO:-0600
TZNAME:CST
DTSTART:20250101T000000
END:STANDARD
END:VTIMEZONE
BEGIN:VEVENT
DTSTART;TZID=America/Tegucigalpa:20260416T180000
DTEND;TZID=America/Tegucigalpa:20260416T200000
DTSTAMP:20260423T102824
CREATED:20260330T192426Z
LAST-MODIFIED:20260417T202521Z
UID:3643-1776362400-1776369600@franklincovey.hn
SUMMARY:Paradigmas Inconscientes: Comprender los Sesgos para Liberar el Potencial™ (Tegucigalpa)
DESCRIPTION:Una solución práctica y efectiva para líderes\nPresentamos Paradigmas Inconscientes: Comprender los Sesgos para Liberar el Potencial™. Esta solución es una colección integral de recursos prácticos y relevantes que proporciona a los líderes los esquemas mentales\, habilidades clave y herramientas esenciales para desempeñar con eficacia sus responsabilidades. El programa permite a los líderes sobresalir en la gestión de equipos al aprender a identificar y combatir los prejuicios que limitan el rendimiento. \nOBJETIVOS ESTRATÉGICOS\nEl sesgo inconsciente es inherente a la condición humana y al funcionamiento del cerebro. Influye en cómo tomamos decisiones\, nos relacionamos con los demás y respondemos a diversas circunstancias\, limitando a menudo el potencial organizacional. No hay nada más fundamental para el alto desempeño que la forma en que nos vemos y nos tratamos como seres humanos. \n01. IDENTIFICAR SESGOS INCONSCIENTES Reconocer el impacto de nuestros paradigmas en los comportamientos\, las decisiones y el desempeño. El primer paso para la excelencia es identificar aquellos pensamientos automáticos que constituyen un sesgo. Al visibilizarlos\, podemos comenzar a desmantelarlos y moldear nuevas interacciones más objetivas en nuestra mente. \n02. CULTIVAR LA CONEXIÓN Fomentar la empatía y la curiosidad en las interacciones profesionales permite descubrir y explorar los prejuicios ocultos. A través de estas conexiones\, comprendemos cómo un prejuicio puede perjudicar tanto al individuo como al equipo\, permitiendo reemplazar juicios por consideración y análisis consciente. \n03. ELEGIR EL CORAJE Explora maneras de afrontar los prejuicios con valentía para crear un espacio donde todos sean respetados\, incluidos y valorados. Al superar nuestros propios paradigmas\, creamos entornos que permiten atraer a las mejores personas\, perspectivas e ideas\, impactando directamente en la capacidad de innovación de la empresa. \nEL RESULTADO: Liberar el Potencial Organizacional\nEl programa Paradigmas Inconscientes: Comprender los Sesgos para Liberar el Potencial™ ofrece un enfoque práctico y basado en principios para abordar el sesgo en la vida cotidiana y profesional. Va más allá de la simple sensibilización\, desarrollando habilidades prácticas para contrarrestar efectos dañinos en la toma de decisiones. \nEsta solución fortalecerá a las organizaciones que necesitan: \nLiderazgo Inclusivo: Desarrollar líderes que aborden activamente el impacto de los prejuicios en la toma de decisiones estratégicas. \nCultura de Alto Valor: Construir un entorno donde cada colaborador se sienta respetado\, incluido y valorado. \nColaboración Interdepartamental: Mejorar la sinergia entre grupos recién incorporados o departamentos funcionales existentes. \nRentabilidad y Cultura: Consolidar una cultura inclusiva que repercuta positivamente en los resultados financieros. \nAcción sobre Cumplimiento: Pasar de una capacitación en diversidad basada en la norma a un enfoque práctico y orientado a la ejecución. \nCoherencia Conductual: Reducir la brecha entre los comportamientos esperados y la realidad de cómo las personas interactúan entre sí.
URL:https://franklincovey.hn/evento/paradigmas-inconscientes-comprender-los-sesgos-para-liberar-el-potencial-tgu/
LOCATION:Presencial\, Tegucigalpa\, Francisco Morazán\, Honduras
CATEGORIES:Cursos
ATTACH;FMTTYPE=image/jpeg:https://franklincovey.hn/wp-content/uploads/2026/03/Paradigmas-Inconsienctes.jpg
END:VEVENT
END:VCALENDAR