BEGIN:VCALENDAR
VERSION:2.0
PRODID:-//FranklinCovey Honduras - ECPv6.15.20//NONSGML v1.0//EN
CALSCALE:GREGORIAN
METHOD:PUBLISH
X-WR-CALNAME:FranklinCovey Honduras
X-ORIGINAL-URL:https://franklincovey.hn
X-WR-CALDESC:Eventos para FranklinCovey Honduras
REFRESH-INTERVAL;VALUE=DURATION:PT1H
X-Robots-Tag:noindex
X-PUBLISHED-TTL:PT1H
BEGIN:VTIMEZONE
TZID:America/Tegucigalpa
BEGIN:STANDARD
TZOFFSETFROM:-0600
TZOFFSETTO:-0600
TZNAME:CST
DTSTART:20250101T000000
END:STANDARD
END:VTIMEZONE
BEGIN:VEVENT
DTSTART;TZID=America/Tegucigalpa:20260505T150000
DTEND;TZID=America/Tegucigalpa:20260505T170000
DTSTAMP:20260423T174431
CREATED:20260423T171258Z
LAST-MODIFIED:20260423T231520Z
UID:4016-1777993200-1778000400@franklincovey.hn
SUMMARY:Webinar: Cómo convertir la incertidumbre en oportunidad™
DESCRIPTION:1. Liderarse a sí mismo en el cambio\nObjetivos:\n– Comprender el cambio como un proceso predecible.\n– Identificar las reacciones personales al cambio.\n– Desarrollar estrategias para afrontar el cambio de manera efectiva.\nTemas clave:\n– La curva del cambio: zonas de Status Quo\, Disrupción\, Adopción e Innovación.\n– Diagnóstico personal: ¿Cómo reacciono al cambio?\n– Herramientas de afrontamiento y adaptación.\n2. Liderar a tu equipo en el cambio\nObjetivos:\n– Comprender las reacciones humanas al cambio dentro de un equipo.\n– Aplicar estrategias para ayudar a los equipos a moverse a través de la curva del cambio.\nTemas clave:\n– Identificación de obstáculos: Hurdles\, Quicksand & Brick Walls.\n– Cómo comunicar el cambio para reducir incertidumbre y resistencia.\n– Estrategias para liderar equipos en la zona de Disrupción.\n3. Liderar a tu equipo en el cambio – Parte 02\nObjetivos:\n– Motivar y acompañar a los equipos en la fase de Adopción e Innovación.\n– Fomentar una cultura de resiliencia y agilidad ante el cambio.\nTemas clave:\n– Persistencia y compromiso en la fase de Adopción.\n– Fomento de la creatividad y la innovación en tiempos de cambio.\n– Aplicación del Modelo de Cambio de FranklinCovey en el día a día
URL:https://franklincovey.hn/evento/ebinar-como-convertir-la-incertidumbre-en-oportunidad/
LOCATION:Virtual
CATEGORIES:Conferencias
ATTACH;FMTTYPE=image/png:https://franklincovey.hn/wp-content/uploads/2026/02/lic-walter-hero-mail-sps-brunch-scaled.png
END:VEVENT
END:VCALENDAR