BEGIN:VCALENDAR
VERSION:2.0
PRODID:-//FranklinCovey Honduras - ECPv6.15.20//NONSGML v1.0//EN
CALSCALE:GREGORIAN
METHOD:PUBLISH
X-ORIGINAL-URL:https://franklincovey.hn
X-WR-CALDESC:Eventos para FranklinCovey Honduras
REFRESH-INTERVAL;VALUE=DURATION:PT1H
X-Robots-Tag:noindex
X-PUBLISHED-TTL:PT1H
BEGIN:VTIMEZONE
TZID:America/Tegucigalpa
BEGIN:STANDARD
TZOFFSETFROM:-0600
TZOFFSETTO:-0600
TZNAME:CST
DTSTART:20250101T000000
END:STANDARD
END:VTIMEZONE
BEGIN:VEVENT
DTSTART;TZID=America/Tegucigalpa:20260414T083000
DTEND;TZID=America/Tegucigalpa:20260414T173000
DTSTAMP:20260423T144658
CREATED:20251212T172233Z
LAST-MODIFIED:20260410T154058Z
UID:2944-1776155400-1776187800@franklincovey.hn
SUMMARY:Líderes Multiplicadores®: Cómo los mejores líderes encienden la inteligencia de todos (Tegucigalpa)
DESCRIPTION:Programa de Liderazgo Multiplicadores\nEste es un programa de liderazgo creado para ayudar a los líderes a potenciar la inteligencia\, el talento y las capacidades de sus equipos\, en lugar de agotarlas. Se basa en la premisa de que los mejores líderes “encienden el brillo” de sus colaboradores\, maximizan su potencial y logran resultados más sólidos al acceder a las capacidades latentes de las personas. \nCaracterísticas Clave de los Líderes Multiplicadores\n\nPotencian el talento: amplifican las capacidades de los miembros del equipo\, permitiendo que las personas innoven\, resuelvan problemas y se mantengan comprometidas.\nEncienden la inteligencia: crean un entorno donde se accede y se utiliza el genio natural de cada integrante para generar más energía\, ideas y soluciones.\nCrean un efecto multiplicador: transforman su comportamiento para producir un impacto que amplifica la inteligencia y las capacidades de todo el equipo.\nFomentan la confianza y el compromiso: establecen un ambiente de alta confianza donde los colaboradores se sienten inspirados\, valorados y alineados con un propósito común.\nLogran resultados superiores: al liberar el potencial individual y colectivo\, los líderes multiplicadores alcanzan resultados más sólidos\, sostenibles y consistentes.\n\nTaller Multiplicadores: un entrenamiento diseñado para enseñar a los líderes a adoptar conductas multiplicadoras de manera duradera y efectiva dentro de sus equipos.
URL:https://franklincovey.hn/evento/lideres-multiplicadores-como-los-mejores-lideres-encienden-la-inteligencia-de-todos-tgu/
LOCATION:Presencial\, Tegucigalpa\, Francisco Morazán\, Honduras
CATEGORIES:Cursos,Desarrolla a tus líderes
ATTACH;FMTTYPE=image/jpeg:https://franklincovey.hn/wp-content/uploads/2025/12/1281259951.jpg
END:VEVENT
END:VCALENDAR