BEGIN:VCALENDAR
VERSION:2.0
PRODID:-//FranklinCovey Honduras - ECPv6.15.20//NONSGML v1.0//EN
CALSCALE:GREGORIAN
METHOD:PUBLISH
X-ORIGINAL-URL:https://franklincovey.hn
X-WR-CALDESC:Eventos para FranklinCovey Honduras
REFRESH-INTERVAL;VALUE=DURATION:PT1H
X-Robots-Tag:noindex
X-PUBLISHED-TTL:PT1H
BEGIN:VTIMEZONE
TZID:America/Tegucigalpa
BEGIN:STANDARD
TZOFFSETFROM:-0600
TZOFFSETTO:-0600
TZNAME:CST
DTSTART:20250101T000000
END:STANDARD
END:VTIMEZONE
BEGIN:VEVENT
DTSTART;TZID=America/Tegucigalpa:20260505T150000
DTEND;TZID=America/Tegucigalpa:20260505T170000
DTSTAMP:20260423T174558
CREATED:20260423T171258Z
LAST-MODIFIED:20260423T231520Z
UID:4016-1777993200-1778000400@franklincovey.hn
SUMMARY:Webinar: Cómo convertir la incertidumbre en oportunidad™
DESCRIPTION:1. Liderarse a sí mismo en el cambio\nObjetivos:\n– Comprender el cambio como un proceso predecible.\n– Identificar las reacciones personales al cambio.\n– Desarrollar estrategias para afrontar el cambio de manera efectiva.\nTemas clave:\n– La curva del cambio: zonas de Status Quo\, Disrupción\, Adopción e Innovación.\n– Diagnóstico personal: ¿Cómo reacciono al cambio?\n– Herramientas de afrontamiento y adaptación.\n2. Liderar a tu equipo en el cambio\nObjetivos:\n– Comprender las reacciones humanas al cambio dentro de un equipo.\n– Aplicar estrategias para ayudar a los equipos a moverse a través de la curva del cambio.\nTemas clave:\n– Identificación de obstáculos: Hurdles\, Quicksand & Brick Walls.\n– Cómo comunicar el cambio para reducir incertidumbre y resistencia.\n– Estrategias para liderar equipos en la zona de Disrupción.\n3. Liderar a tu equipo en el cambio – Parte 02\nObjetivos:\n– Motivar y acompañar a los equipos en la fase de Adopción e Innovación.\n– Fomentar una cultura de resiliencia y agilidad ante el cambio.\nTemas clave:\n– Persistencia y compromiso en la fase de Adopción.\n– Fomento de la creatividad y la innovación en tiempos de cambio.\n– Aplicación del Modelo de Cambio de FranklinCovey en el día a día
URL:https://franklincovey.hn/evento/ebinar-como-convertir-la-incertidumbre-en-oportunidad/
LOCATION:Virtual
CATEGORIES:Conferencias
ATTACH;FMTTYPE=image/png:https://franklincovey.hn/wp-content/uploads/2026/02/lic-walter-hero-mail-sps-brunch-scaled.png
END:VEVENT
BEGIN:VEVENT
DTSTART;VALUE=DATE:20260904
DTEND;VALUE=DATE:20260905
DTSTAMP:20260423T174558
CREATED:20260420T205134Z
LAST-MODIFIED:20260421T161209Z
UID:3913-1788480000-1788566399@franklincovey.hn
SUMMARY:Experiencia Corporativa Exclusiva con Stephen M. R. Covey (San Pedro Sula)
DESCRIPTION:Se ofrece una sesión ejecutiva privada de 2 horas con Stephen M. R. Covey\, diseñada para que su organización reúna a su equipo directivo\, a toda su empresa o a su ecosistema estratégico en un entorno cerrado. Esta experiencia se distingue de la conferencia magistral por ser un entorno privado\, con la apertura integrada con el mensaje del CEO y un tiempo extendido para preguntas y conversación. El objetivo es alinear a los líderes en una conversación común sobre liderazgo\, reforzar el mensaje del CEO con la voz de un referente global y generar un momento insignia de liderazgo para la organización. \nInversión Almuerzo Ejecutivo VIP\nIncluye: \n\nSesión de preguntas y respuestas exclusiva.\nEntrada a la conferencia.\n\nPerfiles Ideales para la Experiencia Exclusiva\n\nEmpresas que desean un evento insignia de liderazgo para 2026.\nOrganizaciones en procesos de cambio o transformación.\nEmpresas que quieren reunir a su ecosistema (clientes\, proveedores\, aliados) en una sola conversación.\nEquipos directivos que necesitan reforzar confianza y coherencia en la ejecución
URL:https://franklincovey.hn/evento/experiencia-corporativa-exclusiva-con-stephen-m-r-covey-sps/
LOCATION:Presencial\, San Pedro Sula\, Cortes\, Honduras
CATEGORIES:Conferencias
ATTACH;FMTTYPE=image/jpeg:https://franklincovey.hn/wp-content/uploads/2026/04/Experiencia-Corporativa-Exclusiva-con-Stephen-M.-R.-Covey-Honduras-2026.jpg
END:VEVENT
BEGIN:VEVENT
DTSTART;VALUE=DATE:20260904
DTEND;VALUE=DATE:20260905
DTSTAMP:20260423T174558
CREATED:20260414T152927Z
LAST-MODIFIED:20260421T161013Z
UID:3772-1788480000-1788566399@franklincovey.hn
SUMMARY:Conferencia Magistral Confianza en Tiempos de Incertidumbre 2026 (San Pedro Sula)
DESCRIPTION:La Conferencia Magistral Confianza y Liderazgo 2026 reunirá a líderes de la industria\, CEOs y ejecutivos de alto nivel\, centrándose en la importancia del Liderazgo y la Confianza en tiempos de cambio.
URL:https://franklincovey.hn/evento/conferencia-magistral-confianza-en-tiempos-de-incertidumbre-2026-sps/
LOCATION:Presencial\, San Pedro Sula\, Cortes\, Honduras
CATEGORIES:Conferencias
ATTACH;FMTTYPE=image/jpeg:https://franklincovey.hn/wp-content/uploads/2026/04/Conferencia-Magistral-Liderar-en-Tiempos-de-incertidumbre-2026.jpg
END:VEVENT
BEGIN:VEVENT
DTSTART;VALUE=DATE:20260907
DTEND;VALUE=DATE:20260908
DTSTAMP:20260423T174558
CREATED:20260414T153138Z
LAST-MODIFIED:20260420T174139Z
UID:3774-1788739200-1788825599@franklincovey.hn
SUMMARY:Conferencia Magistral Confianza en Tiempos de Incertidumbre 2026 (Tegucigalpa)
DESCRIPTION:La Conferencia Magistral Confianza y Liderazgo 2026 reunirá a líderes de la industria\, CEOs y ejecutivos de alto nivel\, centrándose en la importancia del Liderazgo y la Confianza en tiempos de cambio
URL:https://franklincovey.hn/evento/conferencia-magistral-confianza-en-tiempos-de-incertiumbre-2026-tgu/
LOCATION:Presencial\, Tegucigalpa\, Francisco Morazán\, Honduras
CATEGORIES:Conferencias
ATTACH;FMTTYPE=image/jpeg:https://franklincovey.hn/wp-content/uploads/2026/04/Conferencia-Magistral-Liderar-en-Tiempos-de-incertidumbre-2026.jpg
END:VEVENT
BEGIN:VEVENT
DTSTART;VALUE=DATE:20260907
DTEND;VALUE=DATE:20260908
DTSTAMP:20260423T174558
CREATED:20260420T203757Z
LAST-MODIFIED:20260421T161039Z
UID:3908-1788739200-1788825599@franklincovey.hn
SUMMARY:Experiencia Corporativa Exclusiva con Stephen M. R. Covey (Tegucigalpa)
DESCRIPTION:Se ofrece una sesión ejecutiva privada de 2 horas con Stephen M. R. Covey\, diseñada para que su organización reúna a su equipo directivo\, a toda su empresa o a su ecosistema estratégico en un entorno cerrado. Esta experiencia se distingue de la conferencia magistral por ser un entorno privado\, con la apertura integrada con el mensaje del CEO y un tiempo extendido para preguntas y conversación. El objetivo es alinear a los líderes en una conversación común sobre liderazgo\, reforzar el mensaje del CEO con la voz de un referente global y generar un momento insignia de liderazgo para la organización. \nInversión Almuerzo Ejecutivo VIP\nIncluye: \n\nSesión de preguntas y respuestas exclusiva.\nEntrada a la conferencia.\n\nPerfiles Ideales para la Experiencia Exclusiva\n\nEmpresas que desean un evento insignia de liderazgo para 2026.\nOrganizaciones en procesos de cambio o transformación.\nEmpresas que quieren reunir a su ecosistema (clientes\, proveedores\, aliados) en una sola conversación.\nEquipos directivos que necesitan reforzar confianza y coherencia en la ejecución
URL:https://franklincovey.hn/evento/experiencia-corporativa-exclusiva-con-stephen-m-r-covey-tgu/
LOCATION:Presencial\, Tegucigalpa\, Francisco Morazán\, Honduras
CATEGORIES:Conferencias
ATTACH;FMTTYPE=image/jpeg:https://franklincovey.hn/wp-content/uploads/2026/04/Experiencia-Corporativa-Exclusiva-con-Stephen-M.-R.-Covey-Honduras-2026.jpg
END:VEVENT
END:VCALENDAR